BEGIN:VCALENDAR
VERSION:2.0
PRODID:-//Niki Amarousiou - ECPv6.15.20//NONSGML v1.0//EN
CALSCALE:GREGORIAN
METHOD:PUBLISH
X-ORIGINAL-URL:https://nikiamarousiou.gr
X-WR-CALDESC:Events for Niki Amarousiou
REFRESH-INTERVAL;VALUE=DURATION:PT1H
X-Robots-Tag:noindex
X-PUBLISHED-TTL:PT1H
BEGIN:VTIMEZONE
TZID:Europe/Moscow
BEGIN:STANDARD
TZOFFSETFROM:+0300
TZOFFSETTO:+0300
TZNAME:MSK
DTSTART:20240101T000000
END:STANDARD
END:VTIMEZONE
BEGIN:VEVENT
DTSTART;TZID=Europe/Moscow:20250202T170000
DTEND;TZID=Europe/Moscow:20250202T190000
DTSTAMP:20260423T134310
CREATED:20250107T054537Z
LAST-MODIFIED:20250107T054537Z
UID:3893-1738515600-1738522800@nikiamarousiou.gr
SUMMARY:NATIONAL LEAGUE 2: ΓΣ ΔΑΦΝΗ ΔΑΦΝΙΟΥ  VS ΑΣ ΝΙΚΗ ΑΜΑΡΟΥΣΙΟΥ
DESCRIPTION:
URL:https://nikiamarousiou.gr/event/national-league-2-gs-dafni-dafniou-vs-as-niki-amarousiou/
CATEGORIES:Νίκη Αμαρουσίου
END:VEVENT
BEGIN:VEVENT
DTSTART;TZID=Europe/Moscow:20250209T170000
DTEND;TZID=Europe/Moscow:20250209T190000
DTSTAMP:20260423T134310
CREATED:20250208T064152Z
LAST-MODIFIED:20250208T064152Z
UID:4151-1739120400-1739127600@nikiamarousiou.gr
SUMMARY:NATIONAL LEAGUE 2 ΑΣ ΝΙΚΗ ΑΜΑΡΟΥΣΙΟΥ  ΑΕ ΙΚΑΡΟΥ ΚΑΛΛΙΘΕΑΣ
DESCRIPTION:
URL:https://nikiamarousiou.gr/event/national-league-2-as-niki-amarousiou-ae-ikarou-kallitheas/
CATEGORIES:Νίκη Αμαρουσίου
END:VEVENT
BEGIN:VEVENT
DTSTART;TZID=Europe/Moscow:20250216T170000
DTEND;TZID=Europe/Moscow:20250216T190000
DTSTAMP:20260423T134310
CREATED:20250208T064247Z
LAST-MODIFIED:20250208T064247Z
UID:4153-1739725200-1739732400@nikiamarousiou.gr
SUMMARY:NATIONAL LEAGUE 2 ΚΑΠ  ΑΣ ΝΙΚΗ ΑΜΑΡΟΥΣΙΟΥ
DESCRIPTION:
URL:https://nikiamarousiou.gr/event/national-league-2-kap-as-niki-amarousiou/
CATEGORIES:Νίκη Αμαρουσίου
END:VEVENT
BEGIN:VEVENT
DTSTART;TZID=Europe/Moscow:20250223T170000
DTEND;TZID=Europe/Moscow:20250223T190000
DTSTAMP:20260423T134310
CREATED:20250208T064414Z
LAST-MODIFIED:20250208T064414Z
UID:4155-1740330000-1740337200@nikiamarousiou.gr
SUMMARY:NATIONAL LEAGUE ΑΣ ΝΙΚΗ ΑΜΑΡΟΥΣΙΟΥ  ΓΣ ΑΠΟΛΛΩΝ ΣΜΥΡΝΗΣ
DESCRIPTION:
URL:https://nikiamarousiou.gr/event/national-league-as-niki-amarousiou-gs-apollon-smyrnis/
CATEGORIES:Νίκη Αμαρουσίου
END:VEVENT
END:VCALENDAR